BEGIN:VCALENDAR
VERSION:2.0
PRODID:-//MOVE - ECPv6.3.5//NONSGML v1.0//EN
CALSCALE:GREGORIAN
METHOD:PUBLISH
X-WR-CALNAME:MOVE
X-ORIGINAL-URL:https://www.moveinclusion.com
X-WR-CALDESC:Veranstaltungen für MOVE
REFRESH-INTERVAL;VALUE=DURATION:PT1H
X-Robots-Tag:noindex
X-PUBLISHED-TTL:PT1H
BEGIN:VTIMEZONE
TZID:Europe/Berlin
BEGIN:DAYLIGHT
TZOFFSETFROM:+0100
TZOFFSETTO:+0200
TZNAME:CEST
DTSTART:20230326T010000
END:DAYLIGHT
BEGIN:STANDARD
TZOFFSETFROM:+0200
TZOFFSETTO:+0100
TZNAME:CET
DTSTART:20231029T010000
END:STANDARD
END:VTIMEZONE
BEGIN:VEVENT
DTSTART;TZID=Europe/Berlin:20230910T140000
DTEND;TZID=Europe/Berlin:20230910T180000
DTSTAMP:20260421T111621
CREATED:20230809T155308Z
LAST-MODIFIED:20230811T150848Z
UID:10000034-1694354400-1694368800@www.moveinclusion.com
SUMMARY:Ballett für Blinde
DESCRIPTION:Für alle Details bitte an die Veranstalter wenden.
URL:https://www.moveinclusion.com/event/ballett-fuer-blinde/
LOCATION:Petit Ballett Hamburg\, Gertigstrasse 44\, Hamburg\, 22303\, Deutschland
CATEGORIES:Ballett
END:VEVENT
END:VCALENDAR